BEGIN:VCALENDAR
VERSION:2.0
PRODID:-//eventon.com NONSGML v1.0//EN
BEGIN:VEVENT
UID:69e7517c49ee9
DTSTAMP:20260421T222916
DTSTART:20220325
DTEND:20220327
TZID:Pacific/Auckland
LOCATION:
SUMMARY:Christchurch North PFGM relaunch
DESCRIPTION: Christchurch North PFGM relaunch
URL:https://www.passionistfamily.org.nz/events/christchurch-north-pfgm-relaunch/
END:VEVENT
END:VCALENDAR