BEGIN:VCALENDAR
VERSION:2.0
PRODID:-//eventon.com NONSGML v1.0//EN
BEGIN:VEVENT
UID:69eb71dda9ea0
DTSTAMP:20260425T013629
DTSTART:20180526
DTEND:20180526
TZID:UTC
LOCATION:
SUMMARY:Nelson\,  Richmond and Blenheim Formation Day
DESCRIPTION: Nelson\,  Richmond and Blenheim Formation Day
URL:https://www.passionistfamily.org.nz/events/nelson-richmond-and-blenheim-formation-day/
END:VEVENT
END:VCALENDAR