BEGIN:VCALENDAR
VERSION:2.0
PRODID:-//eventon.com NONSGML v1.0//EN
BEGIN:VEVENT
UID:69eb71849621a
DTSTAMP:20260425T013500
DTSTART:20180728
DTEND:20180728
TZID:UTC
LOCATION:
SUMMARY:Christchurch Formation Day
DESCRIPTION: Murray and Aileen Straight mastraight@xtra.co.nz
URL:https://www.passionistfamily.org.nz/events/christchurch-formation-day/
END:VEVENT
END:VCALENDAR