BEGIN:VCALENDAR
VERSION:2.0
PRODID:-//eventon.com NONSGML v1.0//EN
BEGIN:VEVENT
UID:69eb6dafaa37c
DTSTAMP:20260425T011839
DTSTART:20181218
DTEND:20181218
TZID:UTC
LOCATION:Daph and Bill Chamberlains home 
SUMMARY:Christchurch Passionist Companions
DESCRIPTION: Dave – Coach@fitandevolving.com
URL:https://www.passionistfamily.org.nz/events/christchurch-passionist-companions-21/
END:VEVENT
END:VCALENDAR