BEGIN:VCALENDAR
VERSION:2.0
PRODID:-//eventon.com NONSGML v1.0//EN
BEGIN:VEVENT
UID:69eb6c6ccf7b8
DTSTAMP:20260425T011316
DTSTART:20181214
DTEND:20181214
TZID:UTC
LOCATION:
SUMMARY:Palmerston North Companions
DESCRIPTION: Teresa & Jeff – jt.grant@xtra.co.nz
URL:https://www.passionistfamily.org.nz/events/palmerston-north-companions-5/
END:VEVENT
END:VCALENDAR