BEGIN:VCALENDAR
VERSION:2.0
PRODID:-//eventon.com NONSGML v1.0//EN
BEGIN:VEVENT
UID:69eb71dcb4d02
DTSTAMP:20260425T013628
DTSTART:20181120
DTEND:20181120
TZID:UTC
LOCATION:Daph and Bill Chamberlains home 
SUMMARY:Christchurch Passionist Companions
DESCRIPTION: Dave – Coach@fitandevolving.com
URL:https://www.passionistfamily.org.nz/events/christchurch-passionist-companions-20/
END:VEVENT
END:VCALENDAR